BEGIN:VCALENDAR
VERSION:2.0
PRODID:-//hacksw/handcal//NONSGML v1.0//EN
BEGIN:VEVENT
SUMMARY:Bike & Run XS - SARREGUEMINES (57)
UID:5fcc0665-1d5f-4878-90c6-60687cf249ed
DTSTART:20260328T230000Z
DTEND:20260329T230000Z
LOCATION:Localisation   
CATEGORIES:Sportif
STATUS:
DESCRIPTION:<p>Le resultat du Bike & Run XS : <a
 href="https://files-cdn.registration4all.com/public/Results/v2-results/2026/3/results_7375_59608_20260329_171616_resultats-xs-2026_815.pdf"
 target="_blank" rel="noreferrer noopener">ICI</a></p>
URL;VALUE=URI:https://sarrunningclub.sportsregions.fr/evenements/2026/03/29/bike-run-xs-sarreguemines-57-2435267
END:VEVENT
END:VCALENDAR
