BEGIN:VCALENDAR
VERSION:2.0
PRODID:-//hacksw/handcal//NONSGML v1.0//EN
BEGIN:VEVENT
SUMMARY:Marathon de Paris 2026 - Paris (75)
UID:623cacf7-1dba-473a-8669-eabe04c48494
DTSTART:20260411T220000Z
DTEND:20260412T220000Z
LOCATION:Localisation   
CATEGORIES:Sportif
STATUS:
DESCRIPTION:<p>Le resultat du marathon de Paris : <a
 href="https://results.timeto.com/schneider-electric-marathon-de-paris-2026"
 target="_blank" rel="noreferrer noopener">ICI</a></p>
URL;VALUE=URI:https://sarrunningclub.sportsregions.fr/evenements/2026/04/12/marathon-de-paris-2026-paris-75-2440793
END:VEVENT
END:VCALENDAR
