BEGIN:VCALENDAR
VERSION:2.0
PRODID:-//hacksw/handcal//NONSGML v1.0//EN
BEGIN:VEVENT
SUMMARY:Trails des Vosgirunners - Niederbronn-Les-Bains (67)
UID:4a37a13d-a386-4eda-913c-d5b40d25c30d
DTSTART:20260411T220000Z
DTEND:20260412T220000Z
LOCATION:Localisation   
CATEGORIES:Sportif
STATUS:
DESCRIPTION:<p>Le resultat des Trails de Niederbronn : <a
 href="https://cnn.v3.livetrail.net/fr/2026" target="_blank"
 rel="noreferrer noopener">ICI</a></p>
URL;VALUE=URI:https://sarrunningclub.sportsregions.fr/evenements/2026/04/12/trails-des-vosgirunners-niederbronn-les-bains-67-2440798
END:VEVENT
END:VCALENDAR
